BEGIN:VCALENDAR
VERSION:2.0
PRODID:-//eventon.com NONSGML v1.0//EN
CALSCALE:GREGORIAN
METHOD:PUBLISH
BEGIN:VEVENT
UID:69eb1eae746f6
DTSTAMP:20260424T074134Z
DTSTART:20231216T195400Z
DTEND:20231216T195400Z
LOCATION:
SUMMARY:A Christmas Carol
DESCRIPTION:December 16\,  2023. Award-winning actor Michael Peach will rea
 d Charles Dickens’ classic “A Christmas Carol” at the Sedona Heritage
  Museum. Encounters with the ghosts of Christmases Past\,  Present and Futu
 re teach miserly Ebenezer Scrooge what it means to be human in this holiday
  favorite. The show is about an hour[..]\nhttps://sedonabest.com/events/a-c
 hristmas-carol/
URL:https://sedonabest.com/events/a-christmas-carol/
END:VEVENT
END:VCALENDAR