BEGIN:VCALENDAR
VERSION:2.0
PRODID:-//eventon.com NONSGML v1.0//EN
CALSCALE:GREGORIAN
METHOD:PUBLISH
BEGIN:VEVENT
UID:69e68253c72e3
DTSTAMP:20260420T194523Z
DTSTART:20231007T160000Z
DTEND:20231008T230000Z
LOCATION:
SUMMARY:32nd Annual Sedona Arts Festival
DESCRIPTION:Over the weekend of October 7-8\,  2023\,  the 32nd Annual Sedo
 na Arts Festival will showcase a diverse lineup of more than 100 juried art
 ists from across the country. Held on the campus of Sedona Red Rock High Sc
 hool\,  12 in West Sedona\,  this renowned fine art festival will also feat
 ure[..]\nhttps://sedonabest.com/events/32nd-annual-sedona-arts-festival/
URL:https://sedonabest.com/events/32nd-annual-sedona-arts-festival/
END:VEVENT
END:VCALENDAR