BEGIN:VCALENDAR
VERSION:2.0
PRODID:-//eventon.com NONSGML v1.0//EN
CALSCALE:GREGORIAN
METHOD:PUBLISH
BEGIN:VEVENT
UID:69e58e758811e
DTSTAMP:20260420T022453Z
DTSTART:20241104
DTEND:20241105
LOCATION:
SUMMARY:Sedona Food Truck Festival
DESCRIPTION:November 4\,  11 a.m. &#8211; 5 p.m. Grub\,  Brews and Tunes is
  back! Held at Posse Grounds Park\,  this event will feature a mouth-wateri
 ng selection of great food\,  live music\,  beer &amp; wine. Admission is f
 ree! Visit SedonaAZ.gov/PRevents for more info!\nhttps://sedonabest.com/eve
 nts/sedona-food-truck-festival-2/
URL:https://sedonabest.com/events/sedona-food-truck-festival-2/
END:VEVENT
END:VCALENDAR