BEGIN:VCALENDAR
VERSION:2.0
PRODID:-//eventon.com NONSGML v1.0//EN
CALSCALE:GREGORIAN
METHOD:PUBLISH
BEGIN:VEVENT
UID:69e5133caa08a
DTSTAMP:20260419T173908Z
DTSTART:20240211
DTEND:20240212
LOCATION:
SUMMARY:The Art of the Piano Quartet
DESCRIPTION:Sedona Performing Arts Center Gloria Chien\,  piano | Arnaud Su
 ssmann\,  violin | Milena Pajaro-van De Stadt\,  viola | Nicholas Canellaki
 s\,  cello For more details: CONCERT PAGE\nhttps://sedonabest.com/events/th
 e-art-of-the-piano-quartet/
URL:https://sedonabest.com/events/the-art-of-the-piano-quartet/
END:VEVENT
END:VCALENDAR